Workbook

Sheet X-Master
A1: ='X-GenIn'!A1 -> Xcel | PSCo All-Source 2022 Dispatchable RFP | E1: Refs to Other Tabs
B2: All Bid Input Data
B6: RFP | C6: Gen Tech | D6: Metric | E6: Input
B7: All | C7: All | D7: RFP | E7: ='X-GenIn'!C10 -> Dispatchable
B8: All | C8: All | D8: Bidder Company | E8: ='C1_CoverSheet'!C15 -> 0
B9: All | C9: All | D9: Project Name | E9: ='C1_CoverSheet'!C4 -> 0
B10: All | C10: All | D10: City | E10: ='C1_CoverSheet'!C7 -> 0
B11: All | C11: All | D11: County | E11: ='C1_CoverSheet'!C8 -> 0
B12: All | C12: All | D12: State | E12: ='C1_CoverSheet'!C9 -> 0
B13: All | C13: All | D13: Latitude | E13: ='C1_CoverSheet'!C10 -> 0
B14: All | C14: All | D14: Longitude | E14: ='C1_CoverSheet'!C11 -> 0
B15: All | C15: All | D15: Name | E15: ='C1_CoverSheet'!C14 -> 0
B16: All | C16: All | D16: Company | E16: ='C1_CoverSheet'!C15 -> 0
B17: All | C17: All | D17: Address | E17: ='C1_CoverSheet'!C16 -> 0
B18: All | C18: All | D18: Phone | E18: ='C1_CoverSheet'!C17 -> 0
B19: All | C19: All | D19: Email | E19: ='C1_CoverSheet'!C18 -> 0
B20: All | C20: All | D20: Name II | E20: ='C1_CoverSheet'!C21 -> 0
B21: All | C21: All | D21: Company II | E21: ='C1_CoverSheet'!C22 -> 0
B22: All | C22: All | D22: Address II | E22: ='C1_CoverSheet'!C23 -> 0
B23: All | C23: All | D23: Phone II | E23: ='C1_CoverSheet'!C24 -> 0
B24: All | C24: All | D24: Email II | E24: ='C1_CoverSheet'!C25 -> 0
B25: All | C25: All | D25: Generation Technology Type | E25: ='C1_CoverSheet'!C27 -> 0
B26: All | C26: All | D26: Gen Tech Description if Gas or Other | E26: ='C1_CoverSheet'!C28 -> 0
B27: All | C27: All | D27: Net Capability / Nameplate Capacity (kW) | E27: ='C1_CoverSheet'!C29 -> 0
B28: All | C28: All | D28: Capacity Factor (%) | E28: ='C1_CoverSheet'!C30 -> 0
B29: Ownership, Renewable | C29: Solar | D29: Solar PV Nameplate Capacity (kW-DC) | E29: ='C1_CoverSheet'!C31 -> 0
B30: All | C30: Storage | D30: Storage Duration of Nameplate Capacity (hours) | E30: ='C1_CoverSheet'!C32 -> 0
B31: All | C31: All | D31: Hybrid Project | E31: ='C1_CoverSheet'!C33 -> 0
B32: All | C32: All | D32: Primary Fuel Type | E32: ='C1_CoverSheet'!C36 -> 0
B33: All | C33: All | D33: Secondary Fuel Type | E33: ='C1_CoverSheet'!C37 -> 0
B34: All | C34: All | D34: Firm Fuel | E34: ='C1_CoverSheet'!C38 -> 0
B35: All | C35: All | D35: Commercial Operation Date (COD) | E35: ='C1_CoverSheet'!C40 -> 0
B36: Dispatchable, Renewable | C36: All | D36: PPA Term (years) | E36: ='C1_CoverSheet'!C42 -> 0
B37: All | C37: All | D37: Point of Delivery At | E37: ='C1_CoverSheet'!C44 -> 0
B38: All | C38: All | D38: Point of Delivery Is On The | E38: ='C1_CoverSheet'!C46 -> 0
B39: All | C39: All | D39: Sale Type | E39: ='C1_CoverSheet'!C48 -> 0
B40: All | C40: All | D40: Sale Description if Other or Multiple | E40: ='C1_CoverSheet'!C49 -> 0
B41: All | C41: All | D41: Estimated Useful Life of Facility at COD (years) | E41: ='C1_CoverSheet'!C51 -> 0
B42: All | C42: All | D42: Utility Providing Retail Service at Project Location | E42: ='C1_CoverSheet'!C53 -> 0
B43: All | C43: All | D43: Generation Technology Type II | E43: ='C2_CoverSheetII'!C6 -> 0
...

Sheet X-GenIn
A1: ="Xcel | "&C7 -> Xcel | PSCo All-Source 2022 Dispatchable RFP | I1: BEFORE DISTRIBUTION…
B2: General Inputs | I2: - Password lock all sheets.
I3: - Hide this sheet.
B5: Field | C5: Input
B6: Xcel OpCo | C6: PSCo | D6: x - not used
B7: RFP Name | C7: PSCo All-Source 2022 Dispatchable RFP
B8: Yr of Issuance | C8: 2021 | D8: x - not used
B9: Date of Issuance | C9: 44651 | D9: x - not used
B10: RFP Type | C10: Dispatchable
B12: Bid Forms Style Guide
B13: - Keep (try) all inputs to column C.
B14: - Each form have a column size of 3 on either side and then in between column widths should add up to 130.
B15: - Input row height at 20 or 33 (for double lines).
B16: - Top header row height at 23.
B17: - Non-input row height at 12.75.
B18: - Non-input column width at 8.43.
B19: - Zoom scale to 85%.
B20: - Margin size at Normal.
B21: - Font color black or automatic.
B22: - Header background and text color.
B23: - Input background color.
B24: - Scale to fit one page at 65%.
B27: VERSION | C27: 2/9/2023 >> 2/15/2023

Sheet A_NOIR
B1: Form A - Notice of Intent to Respond (NOIR)
B2: ='X-GenIn'!C7 -> PSCo All-Source 2022 Dispatchable RFP
B4: Respondents who intend to submit a proposal(s) into the 2022 All-Source solicitation must submit this form by the stated deadline in Excel format. The NOIR will serve as registration for the All-Source Solicitation and should be submitted via email to the RFP Project Manager at the earliest date possible but no later than 4:00 P.M. Mountain Time on 2/15/2023. Respondents who fail to submit a NOIR will not be able to submit bids. There is no fee required to submit a NOIR. Upon receipt of this form, the Company will respond to the bidder with a link that will enable them to submit their bids electronically to a secure file sharing site and wiring instructions for submittal of bid fees. Please include the email for each bidder representative who should be copied on the emailed instructions from the Company.
B5: BIDDING COMPANY INFORMATION
A6: 1 | B6: Company Name
A9: =+A6+1 -> 2 | B9: Company Location
B10: Street Address, City, State, Zip
A12: =A9+1 -> 3 | B12: Company Representative
B13: Name & Title
A15: =+A12 -> 3 | B15: Email of Representative
A18: =+A15+1 -> 4 | B18: Phone # of Representative
A21: =+A18+1 -> 5 | B21: Emails of Other Company Representatives
B22: Separate emails by semicolon.
A24: =+A21+1 -> 6 | B24: Estimated # of Bids
A27: =+A24+1 -> 7 | B27: Notes to NOIR
B31: Submit the NOIR by email to the RFP Project Manager at PSCo2022AllSource@XcelEnergy.com
B32: by no later than 4:00 P.M. Mountain Time on 2/15/2023.

Sheet B_BidCert
B1: Form B - Bid Certification
B2: ='X-GenIn'!C7 -> PSCo All-Source 2022 Dispatchable RFP
B4: The bidder hereby certifies that all of the statements and representations made in this proposal are true to the best of the bidder's knowledge and belief, and agrees to be bound by the representations, terms, and conditions contained in the RFP including restrictions on the bidder's claim of confidentiality. The bidder accepts the term sheets and technical specifications included in the RFP, except as specifically noted in writing. The bidder certifies that (i) the bidder has considered applicable accounting standards regarding finance leases and consolidated variable interest entities, (ii) to the bidder's knowledge and belief, except as provided for in section 2.7 of the RFP document, the bidder's proposal should not result in finance lease or consolidated variable interest entity treatment to Public Service, and (iii) the bidder agrees to work with PSCo on Transmission Corridor Preservation as detailed in section 3.3 of the RFP document. The bidder acknowledges that the officer whose signature appears below is able to contractually commit the bidder for its proposal.
A5: 1 | B5: Submitted By
B6: Exact Legal Name of Firm
A8: =+A5+1 -> 2 | B8: Bidder
B9: If Different Than Above
A11: =+A8+1 -> 3 | B11: Signature of an Officer
A14: =+A11+1 -> 4 | B14: Name of Officer
A17: =+A14+1 -> 5 | B17: Title
A20: =+A17+1 -> 6 | B20: Date Signed

Sheet C1_CoverSheet
B1: Form C1 - Bid Cover Sheet
B2: ='X-GenIn'!C7 -> PSCo All-Source 2022 Dispatchable RFP
A4: 1 | B4: Project Name
A6: =+A4+1 -> 2 | B6: Project Location
B7: City
B8: County
B9: State | G9: Lat+Long Limits
B10: Latitude | D10: (decimal degrees) | F10: Lat | G10: 25 | H10: 50
B11: Longitude | D11: (decimal degrees) | F11: Long | G11: -125 | H11: -65
A13: =+A6+1 -> 3 | B13: Bidder Contact
B14: Name
B15: Company
B16: Address
B17: Phone
B18: Email
A20: =+A13+1 -> 4 | B20: Alternate Bidder Contact
B21: Name II
B22: Company II
B23: Address II
B24: Phone II
B25: Email II
G26: Gen Types
A27: =+A20+1 -> 5 | B27: Generation Technology Type | D27: (select from drop-down) | G27: Biomass | H27: Gas Thermal | I27: Geothermal | J27: Hydro | K27: Other | L27: Recycled Energy | M27: Solar PV | N27: Solar Thermal | O27: Storage | P27: Wind
B28: Gen Tech Description if Gas Thermal or Other
B29: Net Capability / Nameplate Capacity (kW) | D29: *
B30: Capacity Factor (%)
B31: Solar PV Nameplate Capacity (kW-DC) | D31: **
B32: Storage Duration of Nameplate Capacity (hours) | G32: Hybrid
B33: Hybrid Project | D33: (select from drop-down) | G33: No | H33: Yes
B34: If hybrid, fill out other generation technologies on C2_CoverSheet.
A35: =A27+1 -> 6 | B35: Fuel Type
B36: Primary Fuel Type
B37: Secondary Fuel Type | G37: Firm Fuel
B38: Firm Fuel | D38: (select from drop-down) | G38: No | H38: Yes
G39: COD Limits
A40: =+A35+1 -> 7 | B40: Commercial Operation Date (COD) | G40: 44805 | H40: 47118
A42: =A40+1 -> 8 | B42: PPA Term (years)
B43: Power Purchase Agreements only, Ownership RFP not applicable.
A44: =A42+1 -> 9 | B44: Point of Delivery At
G45: PODs
...

Sheet C2_CoverSheetII
B1: Form C2 - Bid Cover Sheet II for Hybrids
B2: ='X-GenIn'!C7 -> PSCo All-Source 2022 Dispatchable RFP
A4: 1 | B4: Project Name | C4: =+'C1_CoverSheet'!C4 -> 0
G5: Gen Types
A6: =+A4+1 -> 2 | B6: Generation Technology Type II | D6: (select from drop-down) | G6: Biomass | H6: Gas Thermal | I6: Geothermal | J6: Hydro | K6: Other | L6: Recycled Energy | M6: Solar PV | N6: Solar Thermal | O6: Storage | P6: Wind
B7: Gen Tech Description if Gas Thermal or Other II
B8: Net Capability / Nameplate Capacity (kW) II | D8: *
B9: Capacity Factor (%) II
B10: Solar PV Nameplate Capacity (kW-DC) II | D10: **
B11: Storage Duration of Nameplate Capacity (hours) II
A13: =A6+1 -> 3 | B13: Fuel Type II
B14: Primary Fuel Type II
B15: Secondary Fuel Type II | G15: Firm Fuel
B16: Firm Fuel II | D16: (select from drop-down) | G16: No | H16: Yes
A18: =+A13+1 -> 4 | B18: PPA Term (years) II
B19: Power Purchase Agreements only, Ownership RFP not applicable.
A20: =+A18+1 -> 5 | B20: Point of Delivery At II
G21: PODs
A22: =+A20+1 -> 6 | B22: Point of Delivery Is On The II | D22: (select from drop-down) | G22: Transmission System | H22: Distribution System
A24: =+A22+1 -> 7 | B24: Estimated Useful Life of Facility at COD (years) II
A26: =+A24+1 -> 8 | B26: Utility Providing Retail Service at Location II
A28: =+A26+1 -> 9 | B28: Project Location II
B29: City II
B30: County II
B31: State II | G31: Lat+Long Limits
B32: Latitude II | D32: (decimal degrees) | F32: Lat | G32: 25 | H32: 50
B33: Longitude II | D33: (decimal degrees) | F33: Long | G33: -125 | H33: -65
G34: Gen Types
A35: =+A28+1 -> 10 | B35: Generation Technology Type III | D35: (select from drop-down) | G35: Biomass | H35: Gas Thermal | I35: Geothermal | J35: Hydro | K35: Other | L35: Recycled Energy | M35: Solar PV | N35: Solar Thermal | O35: Storage | P35: Wind
B36: Gen Tech Description if Gas Thermal or Other III
B37: Net Capability / Nameplate Capacity (kW) III | D37: *
B38: Capacity Factor (%) III
B39: Solar PV Nameplate Capacity (kW-DC) III | D39: **
B40: Storage Duration of Nameplate Capacity (hours) III
A42: =A35+1 -> 11 | B42: Fuel Type III
B43: Primary Fuel Type III
B44: Secondary Fuel Type III | G44: Firm Fuel
B45: Firm Fuel III | D45: (select from drop-down) | G45: No | H45: Yes
A47: =+A42+1 -> 12 | B47: PPA Term (years) III
B48: Power Purchase Agreements only, Ownership RFP not applicable.
...

Sheet C3_CoverSheetIII
B1: Form C3 - Bid Cover Sheet III
B2: ='X-GenIn'!C7 -> PSCo All-Source 2022 Dispatchable RFP
A4: 1 | B4: Project Name | C4: ='C1_CoverSheet'!C4 -> 0
G5: PCDA
A6: =+A4+1 -> 2 | B6: Pre-Construction Development Asset (PCDA) | D6: (select from drop-down) | G6: No | H6: Yes
G7: PLA
A8: =+A6+1 -> 3 | B8: Project Has a Project Labor Agreement (PLA) | D8: (select from drop-down) | G8: No | H8: Yes
G9: Section 123;
A10: =+A8+1 -> 4 | B10: Project Claims Section 123 Status | D10: (select from drop-down) | G10: No | H10: Yes
G11: Community Project
A12: =+A10+1 -> 5 | B12: Community Based Project | D12: (select from drop-down) | G12: No | H12: Yes

Sheet D1A_PricingThermals
B1: Form D1A - Pricing for Thermals
B2: ='X-GenIn'!C7 -> PSCo All-Source 2022 Dispatchable RFP
B4: Enter fixed payment rates (in $/kW-mo), if any, proposed for each year of the PPA in the column labeled Capacity Price. Enter variable payment rates (e.g., energy, variable O&M, or tolling) in $/MWh, if any, proposed to be paid for each MWh of energy delivered to the point of delivery in the columns labeled Tolling Pmt Rate. Enter the proposed cost (in $ per turbine start), if any, to be paid for each requested turbine start successfully performed in the columns labeled Turbine Start Price. All prices should be entered in nominal dollars. Prices may be fixed for the proposed term, escalate at a known rate, or escalate with an index that is clearly and closely tied to the item being escalated. Regardless, the first year's pricing must be fixed. As a demonstration of your understanding of the impact of your proposed Net Capability and your estimate of the Capacity Availability Factor on the projected annual capacity payments according to Article 8 of the Model PPA, complete the Average Annual Capacity Payment section at the bottom of this form.
A5: 1 | B5: # of Turbines
B6: Subject to Start Price for a complete facility start. E.G. enter "2" for a 2x1 combined cycle.
D7: PRIMARY FUEL | F7: SECONDARY FUEL
A8: =+A5+1 -> 2 | B8: Commercial Operation Year | C8: Capacity Price ($/kW-mo) | D8: Tolling Pmt Rate I ($/MWh) | E8: Turbine Start Price I ($/start) | F8: Tolling Pmt Rate II ($/MWh) | G8: Turbine Start Price II ($/start)
B9: 1
B10: 2
B11: 3
B12: 4
B13: 5
B14: 6
B15: 7
B16: 8
B17: 9
B18: 10
B19: 11
B20: 12
... B33: 25
A34: =+A8+1 -> 3 | B34: Notes to Pricing for Thermals
A37: =+A34+1 -> 4 | B37: Average Annual Capacity Payment
B38: The Capacity Availability Factor is defined as the rolling 12-month ratio of (Available Energy + Scheduled Maintenance Energy) to Period Energy; see Article 8 of the Model PPA for a complete definition. For the estimated Annual Capacity Payment calculation below, assume that the REA factor indicated in Article 8 is equal to 1.0. If the bidder expects the REA factor to be less than 1.0, indicate so in the notes section above and fully explain in the Bid Narrative. In the bid evaluation processes, the Company will estimate annual capacity payments as the product of the Net Capability as proposed by the bidder, the annual Capacity Price on Form D1, an REA equal to 1.0, and a CAF calculated as the average of the Winter and Summer Capacity (Base + Supplemental) from Form F1 times (1 - Expected Forced Outage Rate) divided by the bidder's Net Capability from Form F1. Note that the Company will utilize the Company's estimate of EFOR for screening and not the bidder's EFOR provided on Form F2.
B39: Net Capability (MW) | C39: ='C1_CoverSheet'!C29/1000 -> 0 | E39: Available Energy (MWh)
B40: Capacity Price ($/kW-mo) | E40: Schedule Maintenance Energy (MWh)
B41: Annual Capacity Payment ($000s) | C41: =C39*G42*C40*12 -> 0 | E41: Period Energy (MWh)
E42: Capacity Availability Factor | G42: =IF(G41=0,0,(G39+G40)/G41) -> 0

Sheet D1B_PricingStorage
B1: Form D1B - Pricing for Storage
B2: ='X-GenIn'!C7 -> PSCo All-Source 2022 Dispatchable RFP
B4: Enter fixed payment rates (in $/kW-mo), if any, proposed for each year of the PPA in the column labeled Capacity Payment Rate. Enter variable payment rates (in $/MWh), if any, proposed to be paid for each MWh of energy delivered to the point of delivery, in the Battery Payment Rate column. All prices should be entered in nominal dollars. Prices may be fixed for the proposed term, escalate at a known rate, or escalate with an index that is clearly and closely tied to the item being escalated. Regardless, the first year's pricing must be fixed
A5: 1 | B5: Commercial Operation Year | C5: Battery Payment Rate ($/MWh) | D5: Capacity Payment Rate ($/kW-mo)
B6: 1
B7: 2
B8: 3
B9: 4
B10: 5
B11: 6
B12: 7
B13: 8
B14: 9
B15: 10
B16: 11
B17: 12
... B30: 25
A32: =A5+1 -> 2 | B32: Notes to Pricing for Storage

Sheet D1C_Taxes
B1: Form D1C - Property Taxes
B2: ='X-GenIn'!C7 -> PSCo All-Source 2022 Dispatchable RFP
B4: Any proposal that would result in new generation, storage, interconnection, and/or transmission infrastructure in Morgan, Routt, or Pueblo Counties must provide the estimated property tax that would be imposed on the property located in those counties along with a workpaper showing how those estimated property tax values were calculated. Please provide the estimated annual property taxes in nominal U.S. dollars.
A5: 1 | B5: Commercial Operation Year | C5: Property Taxes ($)
B6: 1
B7: 2
B8: 3
B9: 4
B10: 5
B11: 6
B12: 7
B13: 8
B14: 9
B15: 10
B16: 11
B17: 12
... B30: 25
A32: =+A5+1 -> 2 | B32: Notes to Taxes

Sheet D2_InterconnectCost
B1: Form D2 - Electrical Interconnection Cost Estimates
B2: ='X-GenIn'!C7 -> PSCo All-Source 2022 Dispatchable RFP
A4: 1 | B4: Electric Interconnection Costs Included in Form D1 Pricing
B5: LGIP Identifier
B6: Or source of estimate if no LGIP.
B7: Generator Interconnection Facilities (including Radial Lines) ($)
B8: Length of Gen Tie to Point of Interconnection (miles)
B9: PSCo-Owned, Generator-Funded Interconnection Facilities ($)
B10: Interconnection Cost Price Adjustment ($/kW-mo) | D10: *
B11: *For PPAs only - Change in levelized Capacity Payment Rate ($/kW-mo) per $100,000 change in estimated cost assumption.
A13: =+A4+1 -> 2 | B13: 3rd-Party Transmission Costs Included in Form C1 Pricing
B14: 3rd-Party Transmission Provider
B15: Wheeling and Ancillary Charges
B16: OATT Schedule 1 ($/kW-mo)
B17: OATT Schedule 2 ($/kW-mo)
B18: OATT Schedule 7 ($/kW-mo)
A20: =+A13+1 -> 3 | B20: Electric Interconnection Costs Not Included in Form C1 Pricing
B21: LGIP Identifier II
B22: Or source of estimate if no LGIP.
B23: PSCo-Owned, PSCo-Funded Interconnection Facilities ($)
B24: Network Upgrades for Delivery ($)
B25: List, if known; else, Public Service will estimate and complete.
A27: =+A20+1 -> 4 | B27: Wheeling Losses (%)
B28: If the facility is not located at the Point of Delivery (POD), provide an estimate of the wheeling losses between the facility and the POD.

Sheet E1_ConstructMS
B1: Form E1 - Construction Milestones
B2: ='X-GenIn'!C7 -> PSCo All-Source 2022 Dispatchable RFP
B4: Insert the proposed date for each milestone shown here as would be found on the detailed Development Schedule provided with the proposal. Milestones should be based on the requirements to achieve the proposed commercial operation date.
C5: Construction Milestones Date | D5: Outcome
D6: Seller and all required counterparties shall have executed such Construction Contracts as are needed to construct the Facility.
D7: Seller and the Transmission Authority shall have executed the Interconnection Agreement.
D8: Seller shall have achieved closing on financing for the Facility or provided Company with proof of financial capability to construct the Facility.
D9: Seller shall have laid the foundation for all Facility buildings, generating facilities and step-up transformation facilities.
D10: Commencement of construction of the Facility.
D11: Procurement of Battery Units.
D12: The turbine(s)/generator(s)/step-up transformer shall have been delivered to, and installed at, the Site.
D13: Seller has submitted to Company and obtained Company approval of serialized information for all Electric Metering Devices and Back-Up Metering.
D14: All fuel supply and transportation arrangements have been put in place, the fuel interconnection facilities have been constructed & are operational, & a copy of the executed natural gas interconnection facilities agreement has been provided to Company.
D15: Seller shall have constructed Seller’s Interconnection Facilities and such facilities are capable of being energized.
D16: Seller has demonstrated to Company’s reasonable satisfaction that all Electric Metering Devices and Back-Up Metering and communications equipment are functional and provide data integrity.
D17: Start-up testing of the Facility commences.
D18: Seller shall make all applications and/or flings required by Applicable Law for REC accreditation and for the assignment of such RECs to Company. | F18: COD Limits
D19: Commercial Operation Date. | F19: 44805 | G19: 47118
C21: If a milestone is not applicable (i.e. storage procurement of batteries), mark as "n/a".

Sheet E2_PCDA
B1: Form E2 - Pre-Construction Development Assets (PCDA) Milestones
B2: ='X-GenIn'!C7 -> PSCo All-Source 2022 Dispatchable RFP
B3: 3 | C3: 18.57 | D3: 18.57 | E3: =130-SUM(B3:D3) -> 89.86
B4: Bids not selected may also be considered for submittal to the CPUC as Pre-construction Development Asset (“PCDA”) if the bidder has indicated their interest in this option by selecting the check box in bid Form C3 and supplying the relevant information in the bid narrative (sec section 4.3 of the Dispatchable RFP).
C5: Date | D5: Payment ($) | E5: Milestone
B6: 1
B7: =+B6+1 -> 2
B8: =+B7+1 -> 3
B9: =+B8+1 -> 4
B10: =+B9+1 -> 5
B11: =+B10+1 -> 6
B12: =+B11+1 -> 7
B13: =+B12+1 -> 8
B14: =+B13+1 -> 9
B15: =+B14+1 -> 10
B16: =+B15+1 -> 11
B17: =+B16+1 -> 12
B18: =+B17+1 -> 13
... B23: =+B22+1 -> 18

Sheet F1_Capacity
B1: Form F1 - Capacity for Thermal Resources
B2: ='X-GenIn'!C7 -> PSCo All-Source 2022 Dispatchable RFP
B3: 17.14 | C3: 16.14 | D3: 16.14 | E3: 16.14 | F3: 16.14 | G3: 16.14 | H3: 16.14 | I3: 16.14
B4: All information on this tab should be given by unit for simple cycle turbines or by operating mode for combined cycle turbines. Enter the 1) Operating Mode of the turbines, either simple cycle or combined cycle, the operating mode 2) Configuration, and the 3) # of Units for homogenous simple cycle turbines (e.g. enter 2 for 2 homogenous simple cycle turbines). Enter the maximum capacity configuration first for combined cycle turbines and duplicate the tab for all other configurations or non-homogenous simple cycle turbines. Complete this tab, and for extra duplicates only, label as "F1_Capacity_A", "F1_Capacity_B", etc. for multiple non-homogenous simple cycle turbines and for each operating mode for combined cycle turbines (e.g. there should be at least "F1_Capacity" tab then a "F1_Capacity_A"). Email the RFP project manager with any questions or clarifications. Add 8) notes for additional details. Provide estimated 4) summer, 5) winter, and 6) shoulder capacities and net capability (in MW) by unit (for simple cycle) or operating mode (for combined cycle) that would be available to PSCo over the proposed contract term. The values should reflect the average summer and winter capacities during the commercial operating year at the point of delivery and must be net of all parasitic loads and house power requirements. Neither the summer, winter, nor shoulder capacity should exceed the 7) net capability. If the proposal includes any supplemental capacity (whether from duct-firing, steam injection, or any other type), indicate the amounts available under summer and winter conditions. Note any limitations including, but not limited to, emission permitting limitations on the availability of such supplemental capacity. The base and supplemental capacity values should match the values provided on Form F3 for 100% summer and winter unit loadings. Summer capacity should be based on an ambient temperature of 95 degrees Fahrenheit, 20% relative humidity (RH), and altitude adjusted. Winter capacity should be based on an ambient temperature of 30° F, 60% RH, and altitude adjusted. Shoulder season capacity should be based on an ambient temperature of 52° F, 55% RH, and altitude adjusted. | L4: Op Mode:
A5: 1 | B5: Operating Mode | D5: (select from drop-down) | L5: Simple Cycle | M5: Combined Cycle
L6: Config:
A7: =A5+1 -> 2 | B7: Configuration | D7: (for combined cycle turbines only & select from drop-down list) | L7: 3x1 | M7: 2x1 | N7: 1x1
A9: =A7+1 -> 3 | B9: # of Units | D9: (for homogenous simple cycle turbines)
I10: …by unit or CC operating mode.
C11: 4) SUMMER CAPACITY | E11: 5) WINTER CAPACITY | G11: 6) SHOULDER CAPACITY | I11: 7) NC
B12: Operating Year | C12: Summer Base (MW) | D12: Summer Supplemental (MW) | E12: Winter Base (MW) | F12: Winter Supplemental (MW) | G12: Shoulder Base (MW) | H12: Shoulder Supplemental (MW) | I12: Net Capability (MW)
B13: 1
B14: 2
B15: 3
B16: 4
B17: 5
B18: 6
B19: 7
B20: 8
B21: 9
B22: 10
B23: 11
B24: 12
... B37: 25
A39: 8) | B39: Notes to Capacity

Sheet F2_Performance
B1: Form F2 - Facility Performance
B2: ='X-GenIn'!C7 -> PSCo All-Source 2022 Dispatchable RFP
B3: 86.43 | C3: 20.29 | D3: 23.28
B4: All information on this tab should be given by unit for simple cycle turbines or by operating mode for combined cycle turbines and correspond to a "F1_Capacity" tab. Complete this tab, and for extra duplicates only, label as "F2_Performance_A", "F2_Performance_B", etc. for multiple non-homogenous simple cycle turbines and for each operating mode for combined cycle turbines (e.g. there should be at least "F2_Performance" tab then a "F2_Performance_A"). Email the RFP project manager with any questions or clarifications. Add 8) notes for additional details.
B5: Operating Mode | C5: =F1_Capacity!C5 -> 0 | D5: (CC or simple cycle)
B6: Configuration | C6: =F1_Capacity!C7 -> 0 | D6: (combined cycle turbines only)
B7: # of Units | C7: =F1_Capacity!C9 -> 0 | D7: (homogenous simple cycle only)
A9: 1 | B9: Outages
B10: Annual Expected Forced Outage Rate (%)
B11: Expected Average Annual Maintenance Requirements (days/year)
A13: =A9+1 -> 2 | B13: Manual Control
B14: Lowest Stable Operating Point on Manual Control (% of full load)
B15: Highest Stable Operating Point on Manual Control (% of full load)
B16: Normal Up Ramp Rate on Manual Control (MW/min)
B17: Normal Down Ramp Rate on Manual Control (MW/min)
B18: Emergency Up Ramp Rate on Manual Control (MW/min)
B19: Emergency Down Ramp Rate on Manual Control (MW/min)
B20: Manual control is not modeled, will only model AGC.
A21: =A13+1 -> 3 | B21: Automatic Generation Control (leave blank if no AGC capability)
B22: Lowest Stable Operating Point on AGC (% of full load)
B23: Highest Stable Operating Point on AGC (% of full load)
B24: Maximum Up Ramp Rate on AGC (MW/min)
B25: Maximum Down Ramp Rate on AGC (MW/min)
A27: =A21+1 -> 4 | B27: Start Times (time to start unit, sync to grid, and reach minimum load)
B28: Off-Line for 6 Hours (minutes)
B29: Off-Line for 8 Hours (minutes)
B30: Off-Line for 12 Hours (minutes)
B31: Off-Line for 3 days (minutes)
B32: Maximum Load Achievable in 10 Minutes (% of full load)
B33: Maximum Load Achievable in 15 Minutes (% of full load)
B34: Maximum Load Achievable in 30 Minutes (% of full load)
A36: =A27+1 -> 5 | B36: Minimum Up Time (minutes)
A37: =A36+1 -> 6 | B37: Minimum Down Time (minutes)
A38: =A37+1 -> 7 | B38: Consumptive Water Use at 100% Annual Avg Base Capacity (gallons/MWh)
A40: =A38+1 -> 8 | B40: Notes to Facility Performance

Sheet F3_HeatRates
B1: Form F3 - Heat Rates
B2: ='X-GenIn'!C7 -> PSCo All-Source 2022 Dispatchable RFP
B4: All information on this tab should be given by unit for simple cycle turbines or by operating mode for combined cycle turbines, and correspond to a "F1_Capacity" tab. Complete this tab, and for extra duplicates only, label as "F3_HeatRates_A", "F3_HeatRates_B", etc. for multiple non-homogenous simple cycle turbines and for each operating mode for combined cycle turbines (e.g. there should be at least "F3_HeatRates" tab then a "F3_HeatRates_A"). Email the RFP project manager with any questions or clarifications. Add 4) notes for additional details. For proposals involving tolling or other fuel-indexed arrangements, enter the average summer, winter and shoulder season heat rates at the unit loading levels indicated. Heat rates must be stated at the higher heating value (HHV), ambient (barometric) air pressure corrected to site elevation, and 95 degrees Fahrenheit, 20% relative humidity (RH) for summer conditions, 30° F, 60% RH for winter conditions, and 52° F, 55% RH for shoulder season conditions.
B5: Operating Mode | C5: =F1_Capacity!C5 -> 0 | D5: (CC or simple cycle)
B6: Configuration | C6: =F1_Capacity!C7 -> 0 | D6: (combined cycle turbines only)
B7: # of Units | C7: =F1_Capacity!C9 -> 0 | D7: (homogenous simple cycle only)
C9: 1) SUMMER HR | E9: 2) WINTER HR | G9: 3) SHOULDER HR
B10: Unit Loading at... | C10: Summer Capacity (MW) | D10: Summer Heat Rate (Btu/kWh) | E10: Winter Capacity (MW) | F10: Winter Heat Rate (Btu/kWh) | G10: Shoulder Capacity (MW) | H10: Shoulder Heat Rate (Btu/kWh)
B11: Unit Loading at MIN
B12: ~25% of Operating Range
B13: ~50% of Operating Range
B14: ~75% of Operating Range
B15: Unit Loading At MAX
A17: 4 | B17: Notes to Heat Rates

Sheet F4_HRDegrade
B1: Form F4 - Heat Rate Degradation
B2: ='X-GenIn'!C7 -> PSCo All-Source 2022 Dispatchable RFP
B3: 999
B4: For proposals involving tolling or other fuel-indexed arrangements, enter the predicted percentage degradation in the facility’s higher heating value (HHV) heat rate at ambient summer conditions (ambient (barometric) air pressure corrected to site elevation, and 95° F, 20% relative humidity). Bidders should indicate if predicted heat rates are tied to unit maintenance, and if so, provide details. If Form F3 shows flat heat rates with no degradation, the proposal should indicate that bidder does not want the guaranteed heat rate to change over the term of its proposed PPA.
B5: Operating Hour Range
A6: 1 | B6: Period Start (Hrs) | C6: Period End (Hrs) | D6: Percentage Degradation (%) | E6: Heat Rate (Btu/kWh)
B7: 0
B8: =IF(C8>0,C7,0) -> 0
B9: =IF(C9>0,C8,0) -> 0
B10: =IF(C10>0,C9,0) -> 0
B11: =IF(C11>0,C10,0) -> 0
B12: =IF(C12>0,C11,0) -> 0
B13: =IF(C13>0,C12,0) -> 0
B14: =IF(C14>0,C13,0) -> 0
B15: =IF(C15>0,C14,0) -> 0
B16: =IF(C16>0,C15,0) -> 0
B17: =IF(C17>0,C16,0) -> 0
A19: =A6+1 -> 2 | B19: Notes to HR Degradation

Sheet F5_TechDescStorageI
B1: Form F3- Technical Description | Battery Energy Storage I
B2: ='X-GenIn'!C7 -> PSCo All-Source 2022 Dispatchable RFP
B3: 65.14 | C3: =130-SUM(B3,D3) -> 64.86
A4: 1 | B4: Battery Information
B5: Manufacturer of Battery
B6: Battery Storage Chemistry
A8: =+A4+1 -> 2 | B8: Availability During Outage (hours)
B9: See section 8.4c Storage Model PPA for details.
A11: =+A8+1 -> 3 | B11: Annual Throughput
B12: Annual Throughput Limit (MWh)
B13: Excess Annual Throughput Limit (MWh) | D13: (Optional)
B14: Excess Throughput Charge ($/MWh) | D14: (Optional)
B15: Annual Throughput Banking (MWh) | D15: (Optional)
B16: Annual Throughput Borrowing (MWh) | D16: (Optional)
B17: If any, else leave blank. See section 8.5-6 Solar + Storage Model PPA for details.
A19: =A11+1 -> 4 | B19: Operational Limitations (Exhibit O in the Model PPA)
B20: a. State of Charge
B21: a.1 - YTD Upper Limit in 2nd 1/2 of Op Year (%)
B22: a.2 - If a.1 Exceeds, Annual Average (%)
B23: a.3 - Limitation Released When YTD Avg. Is Less Than (%)
G24: AC/DC Coupling
A25: =A19+1 -> 5 | B25: AC or DC Coupling | D25: (select from drop-down) | G25: AC | H25: DC
B26: For hybrid +storage projects.
G27: Y/N
A28: =A25+1 -> 6 | B28: Compliance Period | D28: (select from drop-down) | G28: Yes | H28: No
B29: If any, else leave blank. See Solar + Storage Model PPA for details.
G30: Y/N
A31: =+A28+1 -> 7 | B31: Meets the requirements of the Model PPA, Exhibit I - Storage | D31: (select from drop-down) | G31: Yes | H31: No
B32: Exhibit I - Storage
B33: AGC Protocols; Data Collection; Technical Specifications.
G34: Y/N
A35: =+A31+1 -> 8 | B35: Storage Provides Regulation Services | D35: (select from drop-down) | G35: Yes | H35: No
A37: =+A35+1 -> 9 | B37: Notes to Technical Description | Battery Energy Storage I

Sheet F6_TechDescStorageII
B1: Form F6 - Technical Description | Battery Energy Storage II
B2: ='X-GenIn'!C7 -> PSCo All-Source 2022 Dispatchable RFP
B3: 55 | C3: 51.43 | D3: =130-SUM(B3:C3) -> 23.57
A4: 1 | B4: Guaranteed Round Trip Efficiency % (RTE)
B5: Commercial Operation Year | C5: RTE (%)
B6: 1
B7: =B6+1 -> 2
B8: 3
B9: 4
B10: 5
B11: 6
B12: 7
B13: 8
B14: 9
B15: 10
B16: 11
B17: 12
B18: 13
B19: 14
... B30: 25
B31: Exhibit M of the Storage Model PPA.
A33: =+A4+1 -> 2 | B33: Performance Metrics
B34: Guaranteed Storage Capacity (MWh)
B35: Self-Discharge Rate (MWh/month)
B36: Guaranteed Minimum Charging Time (minutes)
B37: Guaranteed Maximum Charging Rate (MW)
B38: Guaranteed Minimum Discharging Time (minutes)
B39: Guaranteed Maximum Discharging Rate (MW)
B40: Maximum Ramp Rate (MW/second)
B41: Guaranteed Response Time (seconds)
B42: Exhibit M of the Storage Model PPA.
A44: =A33+1 -> 3 | B44: Notes to Technical Description | Battery Energy Storage II

Sheet G_NatGas
B1: Form G - Natural Gas and Backup Fuel Supply
B2: ='X-GenIn'!C7 -> PSCo All-Source 2022 Dispatchable RFP | D2: =(130-B2)/2 -> #VALUE!
B3: 75.29 | C3: =(130-B3)/2 -> 27.355 | D3: =(130-B3)/2 -> 27.355
A4: 1 | B4: Natural Gas Supply
B5: Identify whether the proposal is for a tolling arrangement or an electric energy sale arrangement. For tolling bids, identify the pipeline to which the bidder plans to interconnect. For energy sale (non-tolling) bids in which bidder plans to acquire and manage the fuel supply, describe supply plan and identify all contracts that support the supply of firm gas transportation and firm supply to the proposed plant.
A8: =A4+1 -> 2 | B8: Natural Gas Interconnection
B9: Describe the gas interconnection facilities that have been included in the Form D1 bid price, including the size, length and location of the lateral interconnection and fuel delivery point. State the capital cost estimates included in the Form D1 pricing and the change in that pricing for a $100,000 change in the capital cost estimate. Attach a USGS-based map showing the gas pipeline delivery point, the location of any lateral lines, compressors and meters.
B11: Gas Interconnection Capital Costs Included in Form D1 Pricing ($)
B12: Gas Interconnection Cost Price Adjustment ($/kW-mo) | D12: *
B13: *For PPAs only - Change in levelized Capacity Payment Rate ($/kW-mo) per $100,000 change in Capital Costs estimate.
A15: =A8+1 -> 3 | B15: Natural Gas Pressure
B16: Minimum Pressure Required at Gas Interconnection Point (psig)
B17: Maximum Pressure Required at Gas Interconnection Point (psig)
B18: Minimum Pressure Required at Plant Burner Tip (psig)
B19: Gas Delivery Pressure (psig)
B20: Guaranteed by the Interconnecting Pipeline at the Fuel Delivery Point
A22: =A15+1 -> 4 | B22: Natural Gas Quantities | C22: Summer | D22: Winter
B23: Maximum Daily Consumption for Electrical Generation (MMBtu/day)
B24: Maximum Hourly Consumption for Electrical Generation (MMBtu/hour)
B25: Maximum Daily Consumption for Ancillaries (MMBtu/day)
B26: Maximum Hourly Consumption for Ancillaries (MMBtu/hour)
B28: Describe any ancillary equipment which may utilize fuel when the facility is off-line and describe who is responsible for the ancillary gas usage costs.
A31: =A22+1 -> 5 | B31: Natural Gas Quality
B32: Select if any of the following pipelines have unacceptable gas quality | G32: Colorado Interstate Gas | H32: Wyoming Interstate Gas | I32: Public Service Company of Colorado
B33: If any, indicate in notes (#7), why. | D33: (select from drop-down)
A35: =A31+1 -> 6 | B35: Secondary Fuel Supply
B36: If secondary, on-site fuel storage is proposed, describe the fuel type, including quality specifications, quantity, and maximum number of full-load run hours on secondary fuel.
B38: Secondary Fuel On-Site Storage Volume (gallons)
B39: Estimated Net Capability Run Hours On Secondary Fuel (hours)
A41: =+A35+1 -> 7 | B41: Maximum Hydrogen Capability Option (%)
B42: See section 2.8 or 2.5 of the Dispatchable or Ownership RFPs, respectively.
A43: =+A41+1 -> 8 | B43: Notes to Natural Gas/Fuel Supply

Sheet H_Emissions
B1: Form H - Emission Rates
B2: ='X-GenIn'!C7 -> PSCo All-Source 2022 Dispatchable RFP | E2: 25
B3: =130-SUM(C3:E3) -> 77 | C3: 25 | D3: 3 | E3: 25
B4: Provide emission rate information for the proposed generator(s), including fuel requirements for base and supplemental capacity and/or freeze protection.
A5: 1 | B5: Emission Rates on Primary Fuel
C6: Emission Rates at Full Load on Base Capacity (lbs/MMBtu) | E6: Emission Rates at Full Load on Base & Supplemental Capacity (lbs/MMBtu)
B7: Oxides of Sulfur
B8: Oxides of Nitrogen
B9: Carbon Dioxide
B10: Carbon Monoxide
B11: Volatile Organic Compounds
B12: Particulate Matter - PM10
B13: Particulate Matter - PM2.5
B14: Lead
B15: Mercury
B17: Maximum NOx emission rate (in parts per million)
B18: Maximum CO emission rate (in parts per million)
B19: Maximum Permitted/Permittable Annual Capacity Factor (%)
B20: % of Net Capability.
A22: =A5+1 -> 2 | B22: Emission Rates on Secondary Fuel
B23: If applicable. | C23: Emission Rates at Full Load on Base Capacity (lbs/MMBtu) II | E23: Emission Rates at Full Load on Base & Supplemental Capacity (lbs/MMBtu) II
B24: Oxides of Sulfur II
B25: Oxides of Nitrogen II
B26: Carbon Dioxide II
B27: Carbon Monoxide II
B28: Volatile Organic Compounds II
B29: Particulate Matter - PM10 II
B30: Particulate Matter - PM2.5 II
B31: Lead II
B32: Mercury II
B34: Maximum NOx emission rate (in parts per million) II
B35: Maximum CO emission rate (in parts per million) II
B36: Maximum Permitted/Permittable Annual Capacity Factor (%) II
B37: % of Net Capability
A39: =A22+1 -> 3 | B39: Notes to Emissions

Sheet KeyVals
A1: sheet | B1: key | C1: value | I1: D1 Pricing
A2: A_NOIR | B2: a_company_name | C2: =#REF! -> #REF! | D2: =IF(C2=0,"",C2) -> #REF! | I2: series_type | J2: yr01 | K2: yr02 | L2: yr03 | M2: yr04 | N2: yr05 | O2: yr06 | P2: yr07 | Q2: yr08 | R2: yr09 | S2: yr10 | T2: yr11 | U2: yr12 | V2: yr13 | W2: yr14 | X2: yr15 | Y2: yr16 | Z2: yr17 | AA2: yr18 | AB2: yr19 | AC2: yr20 | AD2: yr21 | AE2: yr22 | AF2: yr23 | AG2: yr24 | AH2: yr25 | AI2: d1_pricing_notes
A3: A_NOIR | B3: a_address | C3: =#REF! -> #REF! | D3: =IF(C3=0,"",C3) -> #REF! | I3: Capacity Price | J3: =OFFSET(#REF!,RIGHT(J$2,2)-1,ROW(J3)-3) -> #REF! | K3: =OFFSET(#REF!,RIGHT(K$2,2)-1,ROW(K3)-3) -> #REF! | L3: =OFFSET(#REF!,RIGHT(L$2,2)-1,ROW(L3)-3) -> #REF! | M3: =OFFSET(#REF!,RIGHT(M$2,2)-1,ROW(M3)-3) -> #REF! | N3: =OFFSET(#REF!,RIGHT(N$2,2)-1,ROW(N3)-3) -> #REF! | O3: =OFFSET(#REF!,RIGHT(O$2,2)-1,ROW(O3)-3) -> #REF! | P3: =OFFSET(#REF!,RIGHT(P$2,2)-1,ROW(P3)-3) -> #REF! | Q3: =OFFSET(#REF!,RIGHT(Q$2,2)-1,ROW(Q3)-3) -> #REF! | ... AH3: =OFFSET(#REF!,RIGHT(AH$2,2)-1,ROW(AH3)-3) -> #REF! | AI3: =IF(#REF!=0,"",#REF!) -> #REF!
A4: A_NOIR | B4: a_city | C4: =#REF! -> #REF! | D4: =IF(C4=0,"",C4) -> #REF! | I4: Energy Payment Rate | J4: =OFFSET(#REF!,RIGHT(J$2,2)-1,ROW(J4)-3) -> #REF! | K4: =OFFSET(#REF!,RIGHT(K$2,2)-1,ROW(K4)-3) -> #REF! | L4: =OFFSET(#REF!,RIGHT(L$2,2)-1,ROW(L4)-3) -> #REF! | M4: =OFFSET(#REF!,RIGHT(M$2,2)-1,ROW(M4)-3) -> #REF! | N4: =OFFSET(#REF!,RIGHT(N$2,2)-1,ROW(N4)-3) -> #REF! | O4: =OFFSET(#REF!,RIGHT(O$2,2)-1,ROW(O4)-3) -> #REF! | P4: =OFFSET(#REF!,RIGHT(P$2,2)-1,ROW(P4)-3) -> #REF! | Q4: =OFFSET(#REF!,RIGHT(Q$2,2)-1,ROW(Q4)-3) -> #REF! | ... AH4: =OFFSET(#REF!,RIGHT(AH$2,2)-1,ROW(AH4)-3) -> #REF! | AI4: =IF(#REF!=0,"",#REF!) -> #REF!
A5: A_NOIR | B5: a_state | C5: =#REF! -> #REF! | D5: =IF(C5=0,"",C5) -> #REF! | I5: Unit Start Price | J5: =OFFSET(#REF!,RIGHT(J$2,2)-1,ROW(J5)-3) -> #REF! | K5: =OFFSET(#REF!,RIGHT(K$2,2)-1,ROW(K5)-3) -> #REF! | L5: =OFFSET(#REF!,RIGHT(L$2,2)-1,ROW(L5)-3) -> #REF! | M5: =OFFSET(#REF!,RIGHT(M$2,2)-1,ROW(M5)-3) -> #REF! | N5: =OFFSET(#REF!,RIGHT(N$2,2)-1,ROW(N5)-3) -> #REF! | O5: =OFFSET(#REF!,RIGHT(O$2,2)-1,ROW(O5)-3) -> #REF! | P5: =OFFSET(#REF!,RIGHT(P$2,2)-1,ROW(P5)-3) -> #REF! | Q5: =OFFSET(#REF!,RIGHT(Q$2,2)-1,ROW(Q5)-3) -> #REF! | ... AH5: =OFFSET(#REF!,RIGHT(AH$2,2)-1,ROW(AH5)-3) -> #REF! | AI5: =IF(#REF!=0,"",#REF!) -> #REF!
A6: A_NOIR | B6: a_zip | C6: =IF(#REF!<10000,"0"&#REF!,TEXT(#REF!,"0")) -> #REF! | D6: =IF(C6=0,"",C6) -> #REF! | I6: Energy Payment Rate | J6: =OFFSET(#REF!,RIGHT(J$2,2)-1,ROW(J6)-3) -> #REF! | K6: =OFFSET(#REF!,RIGHT(K$2,2)-1,ROW(K6)-3) -> #REF! | L6: =OFFSET(#REF!,RIGHT(L$2,2)-1,ROW(L6)-3) -> #REF! | M6: =OFFSET(#REF!,RIGHT(M$2,2)-1,ROW(M6)-3) -> #REF! | N6: =OFFSET(#REF!,RIGHT(N$2,2)-1,ROW(N6)-3) -> #REF! | O6: =OFFSET(#REF!,RIGHT(O$2,2)-1,ROW(O6)-3) -> #REF! | P6: =OFFSET(#REF!,RIGHT(P$2,2)-1,ROW(P6)-3) -> #REF! | Q6: =OFFSET(#REF!,RIGHT(Q$2,2)-1,ROW(Q6)-3) -> #REF! | ... AH6: =OFFSET(#REF!,RIGHT(AH$2,2)-1,ROW(AH6)-3) -> #REF! | AI6: =IF(#REF!=0,"",#REF!) -> #REF!
A7: A_NOIR | B7: a_company_rep_name | C7: =#REF! -> #REF! | D7: =IF(C7=0,"",C7) -> #REF! | I7: Unit Start Price | J7: =OFFSET(#REF!,RIGHT(J$2,2)-1,ROW(J7)-3) -> #REF! | K7: =OFFSET(#REF!,RIGHT(K$2,2)-1,ROW(K7)-3) -> #REF! | L7: =OFFSET(#REF!,RIGHT(L$2,2)-1,ROW(L7)-3) -> #REF! | M7: =OFFSET(#REF!,RIGHT(M$2,2)-1,ROW(M7)-3) -> #REF! | N7: =OFFSET(#REF!,RIGHT(N$2,2)-1,ROW(N7)-3) -> #REF! | O7: =OFFSET(#REF!,RIGHT(O$2,2)-1,ROW(O7)-3) -> #REF! | P7: =OFFSET(#REF!,RIGHT(P$2,2)-1,ROW(P7)-3) -> #REF! | Q7: =OFFSET(#REF!,RIGHT(Q$2,2)-1,ROW(Q7)-3) -> #REF! | ... AH7: =OFFSET(#REF!,RIGHT(AH$2,2)-1,ROW(AH7)-3) -> #REF! | AI7: =IF(#REF!=0,"",#REF!) -> #REF!
A8: A_NOIR | B8: a_signature | C8: =#REF! -> #REF! | D8: =IF(C8=0,"",C8) -> #REF!
A9: A_NOIR | B9: a_email | C9: =#REF! -> #REF! | D9: =IF(C9=0,"",C9) -> #REF! | I9: F1 Contract Capacity | J9: yr01 | K9: yr02 | L9: yr03 | M9: yr04 | N9: yr05 | O9: yr06 | P9: yr07 | Q9: yr08 | R9: yr09 | S9: yr10 | T9: yr11 | U9: yr12 | V9: yr13 | W9: yr14 | X9: yr15 | Y9: yr16 | Z9: yr17 | AA9: yr18 | AB9: yr19 | AC9: yr20 | AD9: yr21 | AE9: yr22 | AF9: yr23 | AG9: yr24 | AH9: yr25 | AI9: f1d_capacity_notes
A10: A_NOIR | B10: a_phone | C10: =#REF! -> #REF! | D10: =IF(C10=0,"",C10) -> #REF! | I10: base_s | J10: =OFFSET(#REF!,COLUMN(J10)-10,ROW(J10)-10) -> #REF! | K10: =OFFSET(#REF!,COLUMN(K10)-10,ROW(K10)-10) -> #REF! | L10: =OFFSET(#REF!,COLUMN(L10)-10,ROW(L10)-10) -> #REF! | M10: =OFFSET(#REF!,COLUMN(M10)-10,ROW(M10)-10) -> #REF! | N10: =OFFSET(#REF!,COLUMN(N10)-10,ROW(N10)-10) -> #REF! | O10: =OFFSET(#REF!,COLUMN(O10)-10,ROW(O10)-10) -> #REF! | P10: =OFFSET(#REF!,COLUMN(P10)-10,ROW(P10)-10) -> #REF! | Q10: =OFFSET(#REF!,COLUMN(Q10)-10,ROW(Q10)-10) -> #REF! | ... AH10: =OFFSET(#REF!,COLUMN(AH10)-10,ROW(AH10)-10) -> #REF! | AI10: =IF(#REF!="","",#REF!) -> #REF!
A11: A_NOIR | B11: a_fax | C11: =#REF! -> #REF! | D11: =IF(C11=0,"",C11) -> #REF! | I11: supplemental_s | J11: =OFFSET(#REF!,COLUMN(J11)-10,ROW(J11)-10) -> #REF! | K11: =OFFSET(#REF!,COLUMN(K11)-10,ROW(K11)-10) -> #REF! | L11: =OFFSET(#REF!,COLUMN(L11)-10,ROW(L11)-10) -> #REF! | M11: =OFFSET(#REF!,COLUMN(M11)-10,ROW(M11)-10) -> #REF! | N11: =OFFSET(#REF!,COLUMN(N11)-10,ROW(N11)-10) -> #REF! | O11: =OFFSET(#REF!,COLUMN(O11)-10,ROW(O11)-10) -> #REF! | P11: =OFFSET(#REF!,COLUMN(P11)-10,ROW(P11)-10) -> #REF! | Q11: =OFFSET(#REF!,COLUMN(Q11)-10,ROW(Q11)-10) -> #REF! | ... AH11: =OFFSET(#REF!,COLUMN(AH11)-10,ROW(AH11)-10) -> #REF! | AI11: =IF(#REF!="","",#REF!) -> #REF!
A12: A_NOIR | B12: a_project_name | C12: =#REF! -> #REF! | D12: =IF(C12=0,"",C12) -> #REF! | I12: base_w | J12: =OFFSET(#REF!,COLUMN(J12)-10,ROW(J12)-10) -> #REF! | K12: =OFFSET(#REF!,COLUMN(K12)-10,ROW(K12)-10) -> #REF! | L12: =OFFSET(#REF!,COLUMN(L12)-10,ROW(L12)-10) -> #REF! | M12: =OFFSET(#REF!,COLUMN(M12)-10,ROW(M12)-10) -> #REF! | N12: =OFFSET(#REF!,COLUMN(N12)-10,ROW(N12)-10) -> #REF! | O12: =OFFSET(#REF!,COLUMN(O12)-10,ROW(O12)-10) -> #REF! | P12: =OFFSET(#REF!,COLUMN(P12)-10,ROW(P12)-10) -> #REF! | Q12: =OFFSET(#REF!,COLUMN(Q12)-10,ROW(Q12)-10) -> #REF! | ... AH12: =OFFSET(#REF!,COLUMN(AH12)-10,ROW(AH12)-10) -> #REF! | AI12: =IF(#REF!="","",#REF!) -> #REF!
A13: A_NOIR | B13: a_resource_type | C13: =#REF! -> #REF! | D13: =IF(C13=0,"",C13) -> #REF! | I13: supplemental_w | J13: =OFFSET(#REF!,COLUMN(J13)-10,ROW(J13)-10) -> #REF! | K13: =OFFSET(#REF!,COLUMN(K13)-10,ROW(K13)-10) -> #REF! | L13: =OFFSET(#REF!,COLUMN(L13)-10,ROW(L13)-10) -> #REF! | M13: =OFFSET(#REF!,COLUMN(M13)-10,ROW(M13)-10) -> #REF! | N13: =OFFSET(#REF!,COLUMN(N13)-10,ROW(N13)-10) -> #REF! | O13: =OFFSET(#REF!,COLUMN(O13)-10,ROW(O13)-10) -> #REF! | P13: =OFFSET(#REF!,COLUMN(P13)-10,ROW(P13)-10) -> #REF! | Q13: =OFFSET(#REF!,COLUMN(Q13)-10,ROW(Q13)-10) -> #REF! | ... AH13: =OFFSET(#REF!,COLUMN(AH13)-10,ROW(AH13)-10) -> #REF! | AI13: =IF(#REF!="","",#REF!) -> #REF!
A14: A_NOIR | B14: a_nameplate | C14: =#REF! -> #REF! | D14: =IF(C14=0,"",C14) -> #REF! | I14: net | J14: =OFFSET(#REF!,COLUMN(J14)-10,ROW(J14)-10) -> #REF! | K14: =OFFSET(#REF!,COLUMN(K14)-10,ROW(K14)-10) -> #REF! | L14: =OFFSET(#REF!,COLUMN(L14)-10,ROW(L14)-10) -> #REF! | M14: =OFFSET(#REF!,COLUMN(M14)-10,ROW(M14)-10) -> #REF! | N14: =OFFSET(#REF!,COLUMN(N14)-10,ROW(N14)-10) -> #REF! | O14: =OFFSET(#REF!,COLUMN(O14)-10,ROW(O14)-10) -> #REF! | P14: =OFFSET(#REF!,COLUMN(P14)-10,ROW(P14)-10) -> #REF! | Q14: =OFFSET(#REF!,COLUMN(Q14)-10,ROW(Q14)-10) -> #REF! | ... AH14: =OFFSET(#REF!,COLUMN(AH14)-10,ROW(AH14)-10) -> #REF! | AI14: =IF(#REF!="","",#REF!) -> #REF!
A15: A_NOIR | B15: a_heatrate | C15: =#REF! -> #REF! | D15: =IF(C15=0,"",C15) -> #REF!
A16: A_NOIR | B16: a_capfactor | D16: =IF(C16=0,"",C16)
A17: A_NOIR | B17: a_annual_energy | D17: =IF(C17=0,"",C17)
A18: A_NOIR | B18: a_project_location | C18: =#REF! -> #REF! | D18: =IF(C18=0,"",C18) -> #REF!
A19: A_NOIR | B19: a_proposed_COD | C19: =#REF! -> #REF! | D19: =IF(C19=0,"",C19) -> #REF! | I19: F4 HR Degrade
A20: A_NOIR | B20: a_contract_term | C20: =#REF! -> #REF! | D20: =IF(C20=0,"",C20) -> #REF! | I20: Period start | J20: =OFFSET(#REF!,COLUMN(J20)-10,ROW(J20)-ROW($J$20)) -> #REF! | K20: =OFFSET(#REF!,COLUMN(K20)-10,ROW(K20)-ROW($J$20)) -> #REF! | L20: =OFFSET(#REF!,COLUMN(L20)-10,ROW(L20)-ROW($J$20)) -> #REF! | M20: =OFFSET(#REF!,COLUMN(M20)-10,ROW(M20)-ROW($J$20)) -> #REF! | N20: =OFFSET(#REF!,COLUMN(N20)-10,ROW(N20)-ROW($J$20)) -> #REF! | O20: =OFFSET(#REF!,COLUMN(O20)-10,ROW(O20)-ROW($J$20)) -> #REF! | P20: =OFFSET(#REF!,COLUMN(P20)-10,ROW(P20)-ROW($J$20)) -> #REF! | Q20: =OFFSET(#REF!,COLUMN(Q20)-10,ROW(Q20)-ROW($J$20)) -> #REF! | ... S20: =OFFSET(#REF!,COLUMN(S20)-10,ROW(S20)-ROW($J$20)) -> #REF!
A21: A_NOIR | B21: a_notes | C21: =#REF! -> #REF! | D21: =IF(C21=0,"",C21) -> #REF! | I21: Period end | J21: =OFFSET(#REF!,COLUMN(J21)-10,ROW(J21)-ROW($J$20)) -> #REF! | K21: =OFFSET(#REF!,COLUMN(K21)-10,ROW(K21)-ROW($J$20)) -> #REF! | L21: =OFFSET(#REF!,COLUMN(L21)-10,ROW(L21)-ROW($J$20)) -> #REF! | M21: =OFFSET(#REF!,COLUMN(M21)-10,ROW(M21)-ROW($J$20)) -> #REF! | N21: =OFFSET(#REF!,COLUMN(N21)-10,ROW(N21)-ROW($J$20)) -> #REF! | O21: =OFFSET(#REF!,COLUMN(O21)-10,ROW(O21)-ROW($J$20)) -> #REF! | P21: =OFFSET(#REF!,COLUMN(P21)-10,ROW(P21)-ROW($J$20)) -> #REF! | Q21: =OFFSET(#REF!,COLUMN(Q21)-10,ROW(Q21)-ROW($J$20)) -> #REF! | ... S21: =OFFSET(#REF!,COLUMN(S21)-10,ROW(S21)-ROW($J$20)) -> #REF!
A22: B_BidCert | B22: b_submitby | C22: =#REF! -> #REF! | D22: =IF(C22=0,"",C22) -> #REF! | I22: pct degrade | J22: =OFFSET(#REF!,COLUMN(J22)-10,ROW(J22)-ROW($J$20)) -> #REF! | K22: =OFFSET(#REF!,COLUMN(K22)-10,ROW(K22)-ROW($J$20)) -> #REF! | L22: =OFFSET(#REF!,COLUMN(L22)-10,ROW(L22)-ROW($J$20)) -> #REF! | M22: =OFFSET(#REF!,COLUMN(M22)-10,ROW(M22)-ROW($J$20)) -> #REF! | N22: =OFFSET(#REF!,COLUMN(N22)-10,ROW(N22)-ROW($J$20)) -> #REF! | O22: =OFFSET(#REF!,COLUMN(O22)-10,ROW(O22)-ROW($J$20)) -> #REF! | P22: =OFFSET(#REF!,COLUMN(P22)-10,ROW(P22)-ROW($J$20)) -> #REF! | Q22: =OFFSET(#REF!,COLUMN(Q22)-10,ROW(Q22)-ROW($J$20)) -> #REF! | ... S22: =OFFSET(#REF!,COLUMN(S22)-10,ROW(S22)-ROW($J$20)) -> #REF!
A23: B_BidCert | B23: b_bidder | C23: =#REF! -> #REF! | D23: =IF(C23=0,"",C23) -> #REF! | I23: heat rate | J23: =OFFSET(#REF!,COLUMN(J23)-10,ROW(J23)-ROW($J$20)) -> #REF! | K23: =OFFSET(#REF!,COLUMN(K23)-10,ROW(K23)-ROW($J$20)) -> #REF! | L23: =OFFSET(#REF!,COLUMN(L23)-10,ROW(L23)-ROW($J$20)) -> #REF! | M23: =OFFSET(#REF!,COLUMN(M23)-10,ROW(M23)-ROW($J$20)) -> #REF! | N23: =OFFSET(#REF!,COLUMN(N23)-10,ROW(N23)-ROW($J$20)) -> #REF! | O23: =OFFSET(#REF!,COLUMN(O23)-10,ROW(O23)-ROW($J$20)) -> #REF! | P23: =OFFSET(#REF!,COLUMN(P23)-10,ROW(P23)-ROW($J$20)) -> #REF! | Q23: =OFFSET(#REF!,COLUMN(Q23)-10,ROW(Q23)-ROW($J$20)) -> #REF! | ... S23: =OFFSET(#REF!,COLUMN(S23)-10,ROW(S23)-ROW($J$20)) -> #REF!
A24: B_BidCert | B24: b_bidder_sig | C24: =#REF! -> #REF! | D24: =IF(C24=0,"",C24) -> #REF!
A25: B_BidCert | B25: b_officer_name | C25: =#REF! -> #REF! | D25: =IF(C25=0,"",C25) -> #REF!
A26: B_BidCert | B26: b_officer_title | C26: =#REF! -> #REF! | D26: =IF(C26=0,"",C26) -> #REF!
A27: B_BidCert | B27: b_date_signed | C27: =#REF! -> #REF! | D27: =IF(C27=0,"",C27) -> #REF!
A28: B_BidCert | B28: b_rfp_addenda | C28: =#REF! -> #REF! | D28: =IF(C28=0,"",C28) -> #REF!
A29: C_CoverSht | B29: c_project_name | C29: =#REF! -> #REF! | D29: =IF(C29=0,"",C29) -> #REF!
A30: C_CoverSht | B30: c_project_loc | C30: =#REF! -> #REF! | D30: =IF(C30=0,"",C30) -> #REF!
A31: C_CoverSht | B31: c_latitude | C31: =ABS(#REF!) -> #REF! | D31: =IF(C31=0,"",C31) -> #REF!
A32: C_CoverSht | B32: c_longitude | C32: =-ABS(#REF!) -> #REF! | D32: =IF(C32=0,"",C32) -> #REF!
A33: C_CoverSht | B33: c_bidder_name | C33: =#REF! -> #REF! | D33: =IF(C33=0,"",C33) -> #REF!
A34: C_CoverSht | B34: c_bidder_company | C34: =#REF! -> #REF! | D34: =IF(C34=0,"",C34) -> #REF!
A35: C_CoverSht | B35: c_bidder_address | C35: =#REF! -> #REF! | D35: =IF(C35=0,"",C35) -> #REF!
A36: C_CoverSht | B36: c_bidder_phonefax | C36: =#REF! -> #REF! | D36: =IF(C36=0,"",C36) -> #REF!
A37: C_CoverSht | B37: c_bidder_email | C37: =#REF! -> #REF! | D37: =IF(C37=0,"",C37) -> #REF!
A38: C_CoverSht | B38: c_alternate_name | C38: =#REF! -> #REF! | D38: =IF(C38=0,"",C38) -> #REF!
A39: C_CoverSht | B39: c_alternate_company | C39: =#REF! -> #REF! | D39: =IF(C39=0,"",C39) -> #REF!
A40: C_CoverSht | B40: c_alternate_address | C40: =#REF! -> #REF! | D40: =IF(C40=0,"",C40) -> #REF!
...
